BEGIN:VCALENDAR
VERSION:2.0
PRODID:-//Legacy Moments Last Forever - ECPv6.15.16.1//NONSGML v1.0//EN
CALSCALE:GREGORIAN
METHOD:PUBLISH
X-ORIGINAL-URL:https://legacymomentslastforever.com
X-WR-CALDESC:Events for Legacy Moments Last Forever
REFRESH-INTERVAL;VALUE=DURATION:PT1H
X-Robots-Tag:noindex
X-PUBLISHED-TTL:PT1H
BEGIN:VTIMEZONE
TZID:America/Chicago
BEGIN:DAYLIGHT
TZOFFSETFROM:-0600
TZOFFSETTO:-0500
TZNAME:CDT
DTSTART:20190310T080000
END:DAYLIGHT
BEGIN:STANDARD
TZOFFSETFROM:-0500
TZOFFSETTO:-0600
TZNAME:CST
DTSTART:20191103T070000
END:STANDARD
BEGIN:DAYLIGHT
TZOFFSETFROM:-0600
TZOFFSETTO:-0500
TZNAME:CDT
DTSTART:20200308T080000
END:DAYLIGHT
BEGIN:STANDARD
TZOFFSETFROM:-0500
TZOFFSETTO:-0600
TZNAME:CST
DTSTART:20201101T070000
END:STANDARD
BEGIN:DAYLIGHT
TZOFFSETFROM:-0600
TZOFFSETTO:-0500
TZNAME:CDT
DTSTART:20210314T080000
END:DAYLIGHT
BEGIN:STANDARD
TZOFFSETFROM:-0500
TZOFFSETTO:-0600
TZNAME:CST
DTSTART:20211107T070000
END:STANDARD
BEGIN:DAYLIGHT
TZOFFSETFROM:-0600
TZOFFSETTO:-0500
TZNAME:CDT
DTSTART:20220313T080000
END:DAYLIGHT
BEGIN:STANDARD
TZOFFSETFROM:-0500
TZOFFSETTO:-0600
TZNAME:CST
DTSTART:20221106T070000
END:STANDARD
BEGIN:DAYLIGHT
TZOFFSETFROM:-0600
TZOFFSETTO:-0500
TZNAME:CDT
DTSTART:20230312T080000
END:DAYLIGHT
BEGIN:STANDARD
TZOFFSETFROM:-0500
TZOFFSETTO:-0600
TZNAME:CST
DTSTART:20231105T070000
END:STANDARD
BEGIN:DAYLIGHT
TZOFFSETFROM:-0600
TZOFFSETTO:-0500
TZNAME:CDT
DTSTART:20240310T080000
END:DAYLIGHT
BEGIN:STANDARD
TZOFFSETFROM:-0500
TZOFFSETTO:-0600
TZNAME:CST
DTSTART:20241103T070000
END:STANDARD
BEGIN:DAYLIGHT
TZOFFSETFROM:-0600
TZOFFSETTO:-0500
TZNAME:CDT
DTSTART:20250309T080000
END:DAYLIGHT
BEGIN:STANDARD
TZOFFSETFROM:-0500
TZOFFSETTO:-0600
TZNAME:CST
DTSTART:20251102T070000
END:STANDARD
END:VTIMEZONE
BEGIN:VEVENT
DTSTART;TZID=America/Chicago:20241219T130000
DTEND;TZID=America/Chicago:20241219T143000
DTSTAMP:20260423T113912
CREATED:20240917T162917Z
LAST-MODIFIED:20240917T162917Z
UID:275-1734613200-1734618600@legacymomentslastforever.com
SUMMARY:From Phone to Forever | Dec. 19\, 2024
DESCRIPTION:Join us for an engaging workshop designed for the DO-IT-YOURSELF-ER to help you capture and preserve your family’s cherished memories using nothing more than your smartphone. Whether you are a complete beginner or looking to enhance your skills\, this 90-minute workshop will introduce you to basic tools and techniques to create quality video recordings that will be treasured for\ngenerations. \n  \nWe will cover: \n\nPreserve Voices and Faces: Learn why it’s crucial to record your loved ones&#39; voices and videos\nNOW before it’s too late.\nCapture Before It’s Too Late: Understand the importance of recording your storyteller&#39;s voice\nnow with just your cell phone.\nPrompt Precious Memories: Access a curated list of questions to help you choose and\nremember the best stories to share with photos.\nAchieve Clear and Crisp Audio: Learn how to capture quality audio for your videos using your\ncell phone or external microphone.\nUtilize Easy Lighting Tips: Illuminate your memories for your videos and photos.\nSave Your Memories: Learn how to manage electronic storage for the videos you’ll create.\n\n  \nPresenter: Nancy Olsen\, founder of LEGACY MOMENTS LAST FOREVER\, helps\npeople preserve their stories through legacy videos. Born in Chicago\, she raised\ntwo daughters in Wisconsin\, ran a custom drapery business\, worked in an office\npicking up administration skills and worked in Christian ministry. Nancy’s love for\ntechnology led her to create videos combining photos and interviews. She\nbelieves that family stories must be recorded to last. Nancy’s goal is simple: to\nhelp you RECORD NOW AND CHERISH FOREVER. \n  \n\nPLEASE NOTE: Don’t worry if you missed this workshop!  This same 90-minute workshop will be offered each month on the following dates:\n\nThursday\, Oct. 24\, 2024 (1 PM – 2:30 PM)\nThursday\, Nov. 21\, 2024 (1 PM – 2:30 PM)\nThursday\, Dec. 19\, 2024 (1 PM – 2:30 PM)\n 
URL:https://legacymomentslastforever.com/index.php/event/from-phone-to-forever-dec-19-2024/
LOCATION:Zoom\, United States
END:VEVENT
BEGIN:VEVENT
DTSTART;TZID=America/Chicago:20241121T130000
DTEND;TZID=America/Chicago:20241121T143000
DTSTAMP:20260423T113912
CREATED:20240917T162821Z
LAST-MODIFIED:20240917T162821Z
UID:273-1732194000-1732199400@legacymomentslastforever.com
SUMMARY:From Phone to Forever | Nov. 21\, 2024
DESCRIPTION:Join us for an engaging workshop designed for the DO-IT-YOURSELF-ER to help you capture and preserve your family’s cherished memories using nothing more than your smartphone. Whether you are a complete beginner or looking to enhance your skills\, this 90-minute workshop will introduce you to basic tools and techniques to create quality video recordings that will be treasured for\ngenerations. \n  \nWe will cover: \n\nPreserve Voices and Faces: Learn why it’s crucial to record your loved ones&#39; voices and videos\nNOW before it’s too late.\nCapture Before It’s Too Late: Understand the importance of recording your storyteller&#39;s voice\nnow with just your cell phone.\nPrompt Precious Memories: Access a curated list of questions to help you choose and\nremember the best stories to share with photos.\nAchieve Clear and Crisp Audio: Learn how to capture quality audio for your videos using your\ncell phone or external microphone.\nUtilize Easy Lighting Tips: Illuminate your memories for your videos and photos.\nSave Your Memories: Learn how to manage electronic storage for the videos you’ll create.\n\n  \nPresenter: Nancy Olsen\, founder of LEGACY MOMENTS LAST FOREVER\, helps\npeople preserve their stories through legacy videos. Born in Chicago\, she raised\ntwo daughters in Wisconsin\, ran a custom drapery business\, worked in an office\npicking up administration skills and worked in Christian ministry. Nancy’s love for\ntechnology led her to create videos combining photos and interviews. She\nbelieves that family stories must be recorded to last. Nancy’s goal is simple: to\nhelp you RECORD NOW AND CHERISH FOREVER. \n  \n\nPLEASE NOTE: Don’t worry if you missed this workshop!  This same 90-minute workshop will be offered each month on the following dates:\n\nThursday\, Oct. 24\, 2024 (1 PM – 2:30 PM)\nThursday\, Nov. 21\, 2024 (1 PM – 2:30 PM)\nThursday\, Dec. 19\, 2024 (1 PM – 2:30 PM)\n 
URL:https://legacymomentslastforever.com/index.php/event/from-phone-to-forever-nov-21-2024/
LOCATION:Zoom\, United States
END:VEVENT
BEGIN:VEVENT
DTSTART;TZID=America/Chicago:20241024T130000
DTEND;TZID=America/Chicago:20241024T143000
DTSTAMP:20260423T113912
CREATED:20240917T162726Z
LAST-MODIFIED:20240919T200219Z
UID:271-1729774800-1729780200@legacymomentslastforever.com
SUMMARY:From Phone to Forever | Oct. 24\, 2024
DESCRIPTION:Join us for an engaging workshop designed for the DO-IT-YOURSELF-ER to help you capture and preserve your family’s cherished memories using nothing more than your smartphone. Whether you are a complete beginner or looking to enhance your skills\, this 90-minute workshop will introduce you to basic tools and techniques to create quality video recordings that will be treasured for\ngenerations. \n  \nWe will cover: \n\nPreserve Voices and Faces: Learn why it’s crucial to record your loved one’s voices and videos\nNOW before it’s too late.\nCapture Before It’s Too Late: Understand the importance of recording your storyteller’s voice\nnow with just your cell phone.\nPrompt Precious Memories: Access a curated list of questions to help you choose and\nremember the best stories to share with photos.\nAchieve Clear and Crisp Audio: Learn how to capture quality audio for your videos using your\ncell phone or external microphone.\nUtilize Easy Lighting Tips: Illuminate your memories for your videos and photos.\nSave Your Memories: Learn how to manage electronic storage for the videos you’ll create.\n\n  \nPresenter: Nancy Olsen\, founder of LEGACY MOMENTS LAST FOREVER\, helps\npeople preserve their stories through legacy videos. Born in Chicago\, she raised\ntwo daughters in Wisconsin\, ran a custom drapery business\, worked in an office\npicking up administration skills and worked in Christian ministry. Nancy’s love for\ntechnology led her to create videos combining photos and interviews. She\nbelieves that family stories must be recorded to last. Nancy’s goal is simple: to\nhelp you RECORD NOW AND CHERISH FOREVER. \n  \n\nPLEASE NOTE: Don’t worry if you missed this workshop!  This same 90-minute workshop will be offered each month on the following dates:\n\nThursday\, Oct. 24\, 2024 (1 PM – 2:30 PM)\nThursday\, Nov. 21\, 2024 (1 PM – 2:30 PM)\nThursday\, Dec. 19\, 2024 (1 PM – 2:30 PM)\n 
URL:https://legacymomentslastforever.com/index.php/event/from-phone-to-forever-oct-24-2024/
LOCATION:Zoom\, United States
END:VEVENT
BEGIN:VEVENT
DTSTART;TZID=America/Chicago:20240926T130000
DTEND;TZID=America/Chicago:20240926T143000
DTSTAMP:20260423T113912
CREATED:20240917T162550Z
LAST-MODIFIED:20240917T162638Z
UID:268-1727355600-1727361000@legacymomentslastforever.com
SUMMARY:From Phone to Forever | Sept 26\, 2024
DESCRIPTION:Join us for an engaging workshop designed for the DO-IT-YOURSELF-ER to help you capture and preserve your family’s cherished memories using nothing more than your smartphone. Whether you are a complete beginner or looking to enhance your skills\, this 90-minute workshop will introduce you to basic tools and techniques to create quality video recordings that will be treasured for\ngenerations. \n  \nWe will cover: \n\nPreserve Voices and Faces: Learn why it’s crucial to record your loved ones&#39; voices and videos\nNOW before it’s too late.\nCapture Before It’s Too Late: Understand the importance of recording your storyteller&#39;s voice\nnow with just your cell phone.\nPrompt Precious Memories: Access a curated list of questions to help you choose and\nremember the best stories to share with photos.\nAchieve Clear and Crisp Audio: Learn how to capture quality audio for your videos using your\ncell phone or external microphone.\nUtilize Easy Lighting Tips: Illuminate your memories for your videos and photos.\nSave Your Memories: Learn how to manage electronic storage for the videos you’ll create.\n\n  \nPresenter: Nancy Olsen\, founder of LEGACY MOMENTS LAST FOREVER\, helps\npeople preserve their stories through legacy videos. Born in Chicago\, she raised\ntwo daughters in Wisconsin\, ran a custom drapery business\, worked in an office\npicking up administration skills and worked in Christian ministry. Nancy’s love for\ntechnology led her to create videos combining photos and interviews. She\nbelieves that family stories must be recorded to last. Nancy’s goal is simple: to\nhelp you RECORD NOW AND CHERISH FOREVER. \n  \n\nPLEASE NOTE: Don’t worry if you missed this workshop!  This same 90-minute workshop will be offered each month on the following dates:\n\nThursday\, Oct. 24\, 2024 (1 PM – 2:30 PM)\nThursday\, Nov. 21\, 2024 (1 PM – 2:30 PM)\nThursday\, Dec. 19\, 2024 (1 PM – 2:30 PM)\n 
URL:https://legacymomentslastforever.com/index.php/event/from-phone-to-forever-sept-26-2024/
LOCATION:Zoom\, United States
END:VEVENT
BEGIN:VEVENT
DTSTART;TZID=America/Chicago:20240822T130000
DTEND;TZID=America/Chicago:20240822T143000
DTSTAMP:20260423T113912
CREATED:20240817T005448Z
LAST-MODIFIED:20240817T005932Z
UID:262-1724331600-1724337000@legacymomentslastforever.com
SUMMARY:From Phone to Forever
DESCRIPTION:Join us for an engaging workshop designed for the DO-IT-YOURSELF-ER to help you capture and preserve your family’s cherished memories using nothing more than your smartphone. Whether you are a complete beginner or looking to enhance your skills\, this 90-minute workshop will introduce you to basic tools and techniques to create quality video recordings that will be treasured for\ngenerations. \n  \nWe will cover: \n\nPreserve Voices and Faces: Learn why it’s crucial to record your loved ones&#39; voices and videos\nNOW before it’s too late.\nCapture Before It’s Too Late: Understand the importance of recording your storyteller&#39;s voice\nnow with just your cell phone.\nPrompt Precious Memories: Access a curated list of questions to help you choose and\nremember the best stories to share with photos.\nAchieve Clear and Crisp Audio: Learn how to capture quality audio for your videos using your\ncell phone or external microphone.\nUtilize Easy Lighting Tips: Illuminate your memories for your videos and photos.\nSave Your Memories: Learn how to manage electronic storage for the videos you’ll create.\n\n  \nPresenter: Nancy Olsen\, founder of LEGACY MOMENTS LAST FOREVER\, helps\npeople preserve their stories through legacy videos. Born in Chicago\, she raised\ntwo daughters in Wisconsin\, ran a custom drapery business\, worked in an office\npicking up administration skills and worked in Christian ministry. Nancy’s love for\ntechnology led her to create videos combining photos and interviews. She\nbelieves that family stories must be recorded to last. Nancy’s goal is simple: to\nhelp you RECORD NOW AND CHERISH FOREVER. \n 
URL:https://legacymomentslastforever.com/index.php/event/from-phone-to-forever/
LOCATION:Zoom\, United States
END:VEVENT
BEGIN:VEVENT
DTSTART;TZID=America/Chicago:20201112T190000
DTEND;TZID=America/Chicago:20201112T200000
DTSTAMP:20260423T113912
CREATED:20201018T005159Z
LAST-MODIFIED:20201018T005159Z
UID:136-1605207600-1605211200@legacymomentslastforever.com
SUMMARY:VIDEO RECORD YOUR FAMILY LEGACY (Yes you can!)
DESCRIPTION:Dates of the webinar: \nOctober 22\, 2020 7pm-8pm Central \nOctober 29\, 2020 7pm-8pm Central \nNovember 5\, 2020 7pm-8pm Central \nNovember 12\, 2020 7pm-8pm Central \n 
URL:https://legacymomentslastforever.com/index.php/event/video-record-your-family-legacy-yes-you-can-3/
LOCATION:Zoom\, United States
ATTACH;FMTTYPE=image/jpeg:https://legacymomentslastforever.com/wp-content/uploads/2017/01/pr2.jpg
END:VEVENT
BEGIN:VEVENT
DTSTART;TZID=America/Chicago:20201105T190000
DTEND;TZID=America/Chicago:20201105T200000
DTSTAMP:20260423T113912
CREATED:20201018T005111Z
LAST-MODIFIED:20201018T005111Z
UID:134-1604602800-1604606400@legacymomentslastforever.com
SUMMARY:VIDEO RECORD YOUR FAMILY LEGACY (Yes you can!)
DESCRIPTION:Dates of the webinar: \nOctober 22\, 2020 7pm-8pm Central \nOctober 29\, 2020 7pm-8pm Central \nNovember 5\, 2020 7pm-8pm Central \nNovember 12\, 2020 7pm-8pm Central \n 
URL:https://legacymomentslastforever.com/index.php/event/video-record-your-family-legacy-yes-you-can-2/
LOCATION:Zoom\, United States
ATTACH;FMTTYPE=image/jpeg:https://legacymomentslastforever.com/wp-content/uploads/2017/01/pr2.jpg
END:VEVENT
BEGIN:VEVENT
DTSTART;TZID=America/Chicago:20201029T190000
DTEND;TZID=America/Chicago:20201029T200000
DTSTAMP:20260423T113912
CREATED:20201018T005035Z
LAST-MODIFIED:20201018T005035Z
UID:132-1603998000-1604001600@legacymomentslastforever.com
SUMMARY:VIDEO RECORD YOUR FAMILY LEGACY (Yes you can!)
DESCRIPTION:Dates of the webinar: \nOctober 22\, 2020 7pm-8pm Central \nOctober 29\, 2020 7pm-8pm Central \nNovember 5\, 2020 7pm-8pm Central \nNovember 12\, 2020 7pm-8pm Central \n 
URL:https://legacymomentslastforever.com/index.php/event/video-record-your-family-legacy-yes-you-can/
LOCATION:Zoom\, United States
ATTACH;FMTTYPE=image/jpeg:https://legacymomentslastforever.com/wp-content/uploads/2017/01/pr2.jpg
END:VEVENT
BEGIN:VEVENT
DTSTART;TZID=America/Chicago:20201022T190000
DTEND;TZID=America/Chicago:20201022T200000
DTSTAMP:20260423T113912
CREATED:20201013T144542Z
LAST-MODIFIED:20201018T004654Z
UID:121-1603393200-1603396800@legacymomentslastforever.com
SUMMARY:VIDEO RECORD YOUR FAMILY LEGACY (Yes you can!)
DESCRIPTION:Dates of the webinar: \nOctober 22\, 2020 7pm-8pm Central \nOctober 29\, 2020 7pm-8pm Central \nNovember 5\, 2020 7pm-8pm Central \nNovember 12\, 2020 7pm-8pm Central \n 
URL:https://legacymomentslastforever.com/index.php/event/legacy-moments-pilot-webinar/
LOCATION:Zoom\, United States
ATTACH;FMTTYPE=image/jpeg:https://legacymomentslastforever.com/wp-content/uploads/2017/01/pr2.jpg
END:VEVENT
END:VCALENDAR